BEGIN:VCALENDAR
VERSION:2.0
BEGIN:VEVENT
CLASS:PUBLIC
CATEGORIES:MEETING
DTSTART;TZID=America/Chicago:20230923T200000
DTEND;TZID=America/Chicago:20230923T200000
SUMMARY:Soul Punch at Private Party
DESCRIPTION:Age Limit: All Ages
LOCATION:Private Party - Private Drive, Private, MO, 63385, US
END:VEVENT

END:VCALENDAR
