BEGIN:VCALENDAR
VERSION:2.0
BEGIN:VEVENT
CLASS:PUBLIC
CATEGORIES:MEETING
DTSTART;TZID=America/Los_Angeles:20231014T200000
DTEND;TZID=America/Los_Angeles:20231014T200000
SUMMARY:Silver Lining at Bigshots Billiards Bar and Grill
DESCRIPTION:Age Limit: All Ages\n\nDetails: Silver Lining performing live!!
LOCATION:Bigshots Billiards Bar and Grill - 23512 El Toro Rd, Lake Forest, CA, 92630, US
END:VEVENT

END:VCALENDAR
