BEGIN:VCALENDAR
VERSION:2.0
BEGIN:VEVENT
CLASS:PUBLIC
CATEGORIES:MEETING
DTSTART;TZID=America/Detroit:20240414T180000
DTEND;TZID=America/Detroit:20240414T180000
SUMMARY:Ruth and Max Bloomquist at Salt of the Earth
DESCRIPTION:Price: $22\nClick here to buy tickets: https://www.exploretock.com/salt-of-the-earth-fennville/event/475586/in-concert-annagailruth-max-bloomquist\nAge Limit: All Ages\n\nDetails: https://www.saltoftheearthfennville.com Farm to table food and live music. This co-bill with Annagail will be a lot of fun. Check out their website: annagail.net
LOCATION:Salt of the Earth - Fennville, MI, 49408, US
END:VEVENT

END:VCALENDAR
