BEGIN:VCALENDAR
VERSION:2.0
BEGIN:VEVENT
CLASS:PUBLIC
CATEGORIES:MEETING
DTSTART;TZID=America/New_York:20230722T110000
DTEND;TZID=America/New_York:20230722T110000
SUMMARY:Bob Niederriter at Nelson Ledges Quarry Park
DESCRIPTION:Age Limit: All Ages\n\nDetails: Guitar/Organ Trio performance with Jon Eshelman on Hammond organ , and Chris Hovan on drums . At NLQP&#39;s Greatfulfest .
LOCATION:Nelson Ledges Quarry Park - 12001 Rt 282 Nelson Ledge Rd, Garrettsville, OH, 44231, US
END:VEVENT

END:VCALENDAR
