BEGIN:VCALENDAR
VERSION:2.0
BEGIN:VEVENT
CLASS:PUBLIC
CATEGORIES:MEETING
DTSTART;TZID=America/Chicago:20230721T200000
DTEND;TZID=America/Chicago:20230721T200000
SUMMARY:Soul Punch at Chase Park Plaza
DESCRIPTION:Age Limit: All Ages\n\nDetails: Fun cover show 8-12PM
LOCATION:Chase Park Plaza - 212 N Kingshighway Blvd, St Louis, MO, 63108, US
END:VEVENT

END:VCALENDAR
