BEGIN:VCALENDAR
VERSION:2.0
BEGIN:VEVENT
CLASS:PUBLIC
CATEGORIES:MEETING
DTSTART;TZID=America/Indiana/Indianapolis:20230725T190000
DTEND;TZID=America/Indiana/Indianapolis:20230725T190000
SUMMARY:PR1 Promotions / DJ Tiburon at Cheers Pub
DESCRIPTION:Price: Free \nClick here to buy tickets: https://facebook.com/events/s/free-tuesday-night-comedy-with/813829430011022/\nAge Limit: 21+\n\nDetails: https://facebook.com/events/s/free-tuesday-night-comedy-with/813829430011022/
LOCATION:Cheers Pub - 103 South Dixie Way, Roseland, IN, 46637, US
END:VEVENT

END:VCALENDAR
