BEGIN:VCALENDAR
VERSION:2.0
BEGIN:VEVENT
CLASS:PUBLIC
CATEGORIES:MEETING
DTSTART;TZID=Europe/Berlin:20230716T120000
DTEND;TZID=Europe/Berlin:20230716T120000
SUMMARY:Rod Fritz at Biberkeller
DESCRIPTION:Age Limit: All Ages\n\nDetails: Schützenfest im Biberkeller
LOCATION:Biberkeller - Birkenharderstrasse 1, Biberach An Der Riss, BW, 88400, DE
END:VEVENT

END:VCALENDAR
