BEGIN:VCALENDAR
VERSION:2.0
BEGIN:VEVENT
CLASS:PUBLIC
CATEGORIES:MEETING
DTSTART;TZID=Europe/Berlin:20230708T170000
DTEND;TZID=Europe/Berlin:20230708T170000
SUMMARY:Rod Fritz at Greenfield Live
DESCRIPTION:Age Limit: All Ages\n\nDetails: Grrenfield Live in Wilhelmsdorf DE. Outdoor music festival 
LOCATION:Greenfield Live - Pfrungener Straße, Wilhelmsdorf, 88271, DE
END:VEVENT

END:VCALENDAR
