BEGIN:VCALENDAR
VERSION:2.0
BEGIN:VEVENT
CLASS:PUBLIC
CATEGORIES:MEETING
DTSTART;TZID=America/Vancouver:20230617T120100
DTEND;TZID=America/Vancouver:20230617T120100
SUMMARY:Sillken at UBC Farm Farmers' Market
DESCRIPTION:Age Limit: All Ages
LOCATION:UBC Farm Farmers' Market - UBC, Vancouver, BC, V3H 5A4, CA
END:VEVENT

END:VCALENDAR
