BEGIN:VCALENDAR
VERSION:2.0
BEGIN:VEVENT
CLASS:PUBLIC
CATEGORIES:MEETING
DTSTART;TZID=Pacific/Auckland:20230825T183000
DTEND;TZID=Pacific/Auckland:20230825T183000
SUMMARY:Phreaze at Mauao Performing Arts Center
DESCRIPTION:Price: $30\nClick here to buy tickets: https://craft.org.nz\nAge Limit: 18+\n\nDetails: Rhymes &amp; Lyrics! A unique night of Poetry and Hiphop meshed together celebrating National Poetry Day!
LOCATION:Mauao Performing Arts Center - 11 Totara Street, Mount Maunganui, BAY O, 3116, NZ
END:VEVENT

END:VCALENDAR
