BEGIN:VCALENDAR
VERSION:2.0
BEGIN:VEVENT
CLASS:PUBLIC
CATEGORIES:MEETING
DTSTART;TZID=America/New_York:20230916T180000
DTEND;TZID=America/New_York:20230916T180000
SUMMARY:Lisa Martin at The Deck/Platform Sports Bar
DESCRIPTION:Age Limit: All Ages\n\nDetails: Lisa Martin trio performs this night. Always a fun hang at the Deck/Union Station. Music til 9pm
LOCATION:The Deck/Platform Sports Bar - 125 Pleasant Street, Northampton, MA, 01060, US
END:VEVENT

END:VCALENDAR
