BEGIN:VCALENDAR
VERSION:2.0
BEGIN:VEVENT
CLASS:PUBLIC
CATEGORIES:MEETING
DTSTART;TZID=Pacific/Auckland:20220811T200000
DTEND;TZID=Pacific/Auckland:20220811T200000
SUMMARY:Phreaze at Mauao Performing Arts Center
DESCRIPTION:Price: $10\nAge Limit: 18+\n\nDetails: Compilation Launch for VIBES BOP produced by Dawn Raid Entertainment at The Purple Lab!
LOCATION:Mauao Performing Arts Center - 11 Totara Street, Mount Maunganui, BAY O, 3116, NZ
END:VEVENT

END:VCALENDAR
