BEGIN:VCALENDAR
VERSION:2.0
BEGIN:VEVENT
CLASS:PUBLIC
CATEGORIES:MEETING
DTSTART;TZID=Pacific/Auckland:20221009T130000
DTEND;TZID=Pacific/Auckland:20221009T130000
SUMMARY:Phreaze at Memorial Park
DESCRIPTION:Price: FREE\nAge Limit: All Ages\n\nDetails: FLUROFEST All Ages Community Festival! LIVE music, freebies and heaps of activities!
LOCATION:Memorial Park - Eleventh Avenue, Tauranga, BAY O, 3110, NZ
END:VEVENT

END:VCALENDAR
