BEGIN:VCALENDAR
VERSION:2.0
BEGIN:VEVENT
CLASS:PUBLIC
CATEGORIES:MEETING
DTSTART;TZID=Pacific/Auckland:20210918T180000
DTEND;TZID=Pacific/Auckland:20210918T180000
SUMMARY:Phreaze at The Jam Factory
DESCRIPTION:Click here to buy tickets: http://www.waveoflovefestival.com\nAge Limit: 18+\n\nDetails: A 24 Hour Music Festival that will travel around the world wirh the timeline!
LOCATION:The Jam Factory - 17th Ave West, Tauranga, 3112, NZ
END:VEVENT

END:VCALENDAR
