BEGIN:VCALENDAR
VERSION:2.0
BEGIN:VEVENT
CLASS:PUBLIC
CATEGORIES:MEETING
DTSTART;TZID=Pacific/Auckland:20230311T110000
DTEND;TZID=Pacific/Auckland:20230311T110000
SUMMARY:Phreaze at Welcome Bay Community Centre Inc
DESCRIPTION:Price: FREE\nAge Limit: All Ages\n\nDetails: Stalls, Live Music, Activities for the whole whānau! 
LOCATION:Welcome Bay Community Centre Inc - 242 Welcome Bay Road, Tauranga, BAY O, 3112, NZ
END:VEVENT

END:VCALENDAR
