BEGIN:VCALENDAR
VERSION:2.0
BEGIN:VEVENT
CLASS:PUBLIC
CATEGORIES:MEETING
DTSTART;TZID=Pacific/Auckland:20230319T170000
DTEND;TZID=Pacific/Auckland:20230319T170000
SUMMARY:Phreaze at Trustpower Baypark
DESCRIPTION:Click here to buy tickets: https://www.madtacfestival.co.nz\nAge Limit: All Ages\n\nDetails: MADTAC FESTIVAL!! Heaps of Aotero Hiphop Artists, stalls, tattoo artists and more!!
LOCATION:Trustpower Baypark - 81 Truman Lane, Mount Maunganui, 3175, NZ
END:VEVENT

END:VCALENDAR
