BEGIN:VCALENDAR
VERSION:2.0
BEGIN:VEVENT
CLASS:PUBLIC
CATEGORIES:MEETING
DTSTART;TZID=America/Los_Angeles:20230929T210000
DTEND;TZID=America/Los_Angeles:20230929T210000
SUMMARY:Silver Lining at Tumbleweeds Bar and Grill
DESCRIPTION:Age Limit: All Ages\n\nDetails: Silver Lining plays 4 sets from 9pm-1am
LOCATION:Tumbleweeds Bar and Grill - 21094 Beach Boulevard, Huntington Beach, CA, 92648, US
END:VEVENT

END:VCALENDAR
