BEGIN:VCALENDAR
VERSION:2.0
BEGIN:VEVENT
CLASS:PUBLIC
CATEGORIES:MEETING
DTSTART;TZID=America/Chicago:20230530T200000
DTEND;TZID=America/Chicago:20230530T200000
SUMMARY:The Human Circuit at The Coral Snake
DESCRIPTION:Price: $10\nAge Limit: 21+\n\nDetails: The Coral Snake presents a night of Indie Rock music in East Austin!\n\n9pm: The Human Circuit\n10pm: Backseat Soundtrack\n11pm: Foxi Moxi\n\nCover $10, full bar. The Coral Snake is a BRAND NEW venue in East Austin (formerly Longplay Lounge/Stay Gold).
LOCATION:The Coral Snake - 1910 East Cesar Chavez Street, Austin, TX, 78702, US
END:VEVENT

END:VCALENDAR
