BEGIN:VCALENDAR
VERSION:2.0
BEGIN:VEVENT
CLASS:PUBLIC
CATEGORIES:MEETING
DTSTART;TZID=Europe/Berlin:20230519T200000
DTEND;TZID=Europe/Berlin:20230519T200000
SUMMARY:Rod Fritz at Fischerhaus Museumsgaststätte
DESCRIPTION:Age Limit: All Ages\n\nDetails: Rod Fritz live at Fischerhaus Museumsgaststätte Beer Garden from 8pm
LOCATION:Fischerhaus Museumsgaststätte - Fischergasse 29, Wolfegg, BW, 88364, DE
END:VEVENT

END:VCALENDAR
