BEGIN:VCALENDAR
VERSION:2.0
BEGIN:VEVENT
CLASS:PUBLIC
CATEGORIES:MEETING
DTSTART;TZID=America/Los_Angeles:20230722T200000
DTEND;TZID=America/Los_Angeles:20230722T200000
SUMMARY:Silver Lining at J. King Neptune's Restaurant
DESCRIPTION:Age Limit: All Ages
LOCATION:J. King Neptune's Restaurant - 17115 Pacific Coast Highway, Huntington Beach, CA, 90742, US
END:VEVENT

END:VCALENDAR
