BEGIN:VCALENDAR
VERSION:2.0
BEGIN:VEVENT
CLASS:PUBLIC
CATEGORIES:MEETING
DTSTART;TZID=America/Los_Angeles:20230506T140000
DTEND;TZID=America/Los_Angeles:20230506T140000
SUMMARY:Silver Lining at Simi Valley Street Fair
DESCRIPTION:Age Limit: All Ages
LOCATION:Simi Valley Street Fair - 1555 Simi Town Center Way, Simi Valley, CA, 93065, US
END:VEVENT

END:VCALENDAR
