BEGIN:VCALENDAR
VERSION:2.0
BEGIN:VEVENT
CLASS:PUBLIC
CATEGORIES:MEETING
DTSTART;TZID=Europe/Berlin:20230831T193000
DTEND;TZID=Europe/Berlin:20230831T193000
SUMMARY:Rod Fritz at Kultursommer. In Günzburg DE
DESCRIPTION:Age Limit: All Ages
LOCATION:Kultursommer. In Günzburg DE - Günzburg Marktplatz, Günzburg, 89312, DE
END:VEVENT

END:VCALENDAR
