BEGIN:VCALENDAR
VERSION:2.0
BEGIN:VEVENT
CLASS:PUBLIC
CATEGORIES:MEETING
DTSTART;TZID=Europe/Berlin:20230610T120000
DTEND;TZID=Europe/Berlin:20230610T120000
SUMMARY:Rod Fritz at Rosenfest Biberach
DESCRIPTION:Age Limit: All Ages
LOCATION:Rosenfest Biberach - Emmingergasse, Biberach An Der Riss, 88400, DE
END:VEVENT

END:VCALENDAR
