BEGIN:VCALENDAR
VERSION:2.0
BEGIN:VEVENT
CLASS:PUBLIC
CATEGORIES:MEETING
DTSTART;TZID=Europe/Berlin:20230415T120000
DTEND;TZID=Europe/Berlin:20230415T120000
SUMMARY:Rod Fritz at Street Food Festival Obersdorf
DESCRIPTION:Price: N/A\nAge Limit: All Ages\n\nDetails: Rod Fritz Live at Street Food Festival Obersdorf
LOCATION:Street Food Festival Obersdorf - Prinzregenten-Platz 1, Obersdorf, 87561, DE
END:VEVENT

END:VCALENDAR
