BEGIN:VCALENDAR
VERSION:2.0
BEGIN:VEVENT
CLASS:PUBLIC
CATEGORIES:MEETING
DTSTART;TZID=America/Los_Angeles:20230624T200000
DTEND;TZID=America/Los_Angeles:20230624T200000
SUMMARY:Silver Lining at Lincoln House
DESCRIPTION:Age Limit: All Ages\n\nDetails: Live music with Silver Lining. \nMake reservations ahead of time.
LOCATION:Lincoln House - 144 West Badillo Street, Covina, CA, 91723, US
END:VEVENT

END:VCALENDAR
