BEGIN:VCALENDAR
VERSION:2.0
BEGIN:VEVENT
CLASS:PUBLIC
CATEGORIES:MEETING
DTSTART;TZID=America/Chicago:20230327T180000
DTEND;TZID=America/Chicago:20230327T180000
SUMMARY:Bryan Bielanski at The Howlin' Wolf New Orleans
DESCRIPTION:Age Limit: 18+\n\nDetails: Illicitizen supporting their bestie Bryan Bielanski and his Super Happy Fun Time III Tour of the entire known galaxy.
LOCATION:The Howlin' Wolf New Orleans - 907 S Peters St, New Orleans, LA, 70130, US
END:VEVENT

END:VCALENDAR
