BEGIN:VCALENDAR
VERSION:2.0
BEGIN:VEVENT
CLASS:PUBLIC
CATEGORIES:MEETING
DTSTART;TZID=America/Denver:20230506T130000
DTEND;TZID=America/Denver:20230506T130000
SUMMARY:The Royal Aces at Edgewater Beer Garden
DESCRIPTION:Age Limit: All Ages\n\nDetails: The beer garden will be open earlier, and then we will play rocking surf from 1 to 4 pm.  The Edgewater Beer Garden is a great place!  They offer a thoughtful collection of draft and bottled beer, and casual food fare.   And. on this day, they&#39;ll do &quot;Gear Up For Good&quot;, with Trek, New Belgium, and Wish For Wheels. A $20 donation will go entirely to Wish For Wheels. 
LOCATION:Edgewater Beer Garden - 2508 Gray St, Edgewater, CO, 80214, US
END:VEVENT

END:VCALENDAR
