BEGIN:VCALENDAR
VERSION:2.0
BEGIN:VEVENT
CLASS:PUBLIC
CATEGORIES:MEETING
DTSTART;TZID=America/Los_Angeles:20230804T180000
DTEND;TZID=America/Los_Angeles:20230804T180000
SUMMARY:Silver Lining at Cypress Concerts on the Green
DESCRIPTION:Price: Free\nAge Limit: All Ages
LOCATION:Cypress Concerts on the Green - 5275 Orange Ave, Cypress, CA, 90630, US
END:VEVENT

END:VCALENDAR
