BEGIN:VCALENDAR
VERSION:2.0
BEGIN:VEVENT
CLASS:PUBLIC
CATEGORIES:MEETING
DTSTART;TZID=America/Chicago:20231021T180000
DTEND;TZID=America/Chicago:20231021T180000
SUMMARY:Soul Punch at Wildwood Pub and Grill
DESCRIPTION:Age Limit: All Ages\n\nDetails: 6-9!
LOCATION:Wildwood Pub and Grill - 17253 New College Avenue, Wildwood, MO, 63040, US
END:VEVENT

END:VCALENDAR
