BEGIN:VCALENDAR
VERSION:2.0
BEGIN:VEVENT
CLASS:PUBLIC
CATEGORIES:MEETING
DTSTART;TZID=America/Chicago:20230528T120000
DTEND;TZID=America/Chicago:20230528T120000
SUMMARY:Soul Punch at Chandler Hill Vineyards
DESCRIPTION:Age Limit: All Ages\n\nDetails: Fun Cover Show 12-4PM
LOCATION:Chandler Hill Vineyards - Defiance, MO, US
END:VEVENT

END:VCALENDAR
