BEGIN:VCALENDAR
VERSION:2.0
BEGIN:VEVENT
CLASS:PUBLIC
CATEGORIES:MEETING
DTSTART;TZID=America/Chicago:20230325T120000
DTEND;TZID=America/Chicago:20230325T120000
SUMMARY:Soul Punch at Chandler Hill Winery
DESCRIPTION:Age Limit: All Ages\n\nDetails: Fun Cover Show 12-4PM
LOCATION:Chandler Hill Winery - 596 Defiance Rd, Defiance, MO, 63341, US
END:VEVENT

END:VCALENDAR
