BEGIN:VCALENDAR
VERSION:2.0
BEGIN:VEVENT
CLASS:PUBLIC
CATEGORIES:MEETING
DTSTART;TZID=America/Los_Angeles:20230401T110000
DTEND;TZID=America/Los_Angeles:20230401T110000
SUMMARY:Silver Lining at Rancho Santa Susana Community Park
DESCRIPTION:Age Limit: All Ages\n\nDetails: This date is for Country Round Up.
LOCATION:Rancho Santa Susana Community Park - Simi Valley, CA, US
END:VEVENT

END:VCALENDAR
