BEGIN:VCALENDAR
VERSION:2.0
BEGIN:VEVENT
CLASS:PUBLIC
CATEGORIES:MEETING
DTSTART;TZID=America/Los_Angeles:20230318T203000
DTEND;TZID=America/Los_Angeles:20230318T203000
SUMMARY:Silver Lining at Bigshots Billiards Bar and Grill
DESCRIPTION:Age Limit: 21+
LOCATION:Bigshots Billiards Bar and Grill - 23512 El Toro Rd, Lake Forest, CA, 92630, US
END:VEVENT

END:VCALENDAR
