BEGIN:VCALENDAR
VERSION:2.0
BEGIN:VEVENT
CLASS:PUBLIC
CATEGORIES:MEETING
DTSTART;TZID=America/Toronto:20230206T190000
DTEND;TZID=America/Toronto:20230206T190000
SUMMARY:Amanda Cottreau at Live on Elgin
DESCRIPTION:Price: $10-15\nClick here to buy tickets: https://www.eventbrite.ca/e/a-very-fine-improv-show-tickets-513990588687?aff=eand\nAge Limit: 19+\n\nDetails: A fun filled night of improv, drinks and old, new or soon to be friends with special guest, Amanda Cottreau and Equity Unicorn.\n\nA﻿ fun night out on a Monday? Why not?!\n\nJourney out to Live! On Elgin where we&#39;ll have some cold drinks and some hot improv! Hosted by two wonderful lounge performers we have four splendid troupes all there to entertain! Come out have a drink, sing-a-long and enjoy some improv.\n\nW﻿hen? Mon February 6th, doors at 7pm and show at 8pm\n\nW﻿here? Live! On Elgin\n\nH﻿ow much? (only) $10 online and $15 at the door
LOCATION:Live on Elgin - 220 Elgin Street, Ottawa, ON, K2P 1L7, CA
END:VEVENT

END:VCALENDAR
