BEGIN:VCALENDAR
VERSION:2.0
BEGIN:VEVENT
CLASS:PUBLIC
CATEGORIES:MEETING
DTSTART;TZID=America/Los_Angeles:20230218T100000
DTEND;TZID=America/Los_Angeles:20230218T100000
SUMMARY:LeBono at Terra Vista Farmers Market
DESCRIPTION:Age Limit: All Ages\n\nDetails: Jamming out Acoustic Rock Originals and Covers!!
LOCATION:Terra Vista Farmers Market - Aspen Ave, Rancho Cucamonga, CA, 91730, US
END:VEVENT

END:VCALENDAR
