BEGIN:VCALENDAR
VERSION:2.0
BEGIN:VEVENT
CLASS:PUBLIC
CATEGORIES:MEETING
DTSTART;TZID=Europe/London:20230225T190000
DTEND;TZID=Europe/London:20230225T190000
SUMMARY:herds at Liquid light taproom
DESCRIPTION:Price: FREE\nAge Limit: 18+
LOCATION:Liquid light taproom - Unit 9, Robin Hood Industrial Estate, Alfred Street South, Sneinton,, Nottingham, NG3 1GE, UK
END:VEVENT

END:VCALENDAR
