BEGIN:VCALENDAR
VERSION:2.0
BEGIN:VEVENT
CLASS:PUBLIC
CATEGORIES:MEETING
DTSTART;TZID=America/Los_Angeles:20230514T120000
DTEND;TZID=America/Los_Angeles:20230514T120000
SUMMARY:Silver Lining at Sea salt beachside burger
DESCRIPTION:Age Limit: All Ages\n\nDetails: Silver Lining&#39;s Mother&#39;s Day show on the beach.\nSpend the day on the beach with mom and Silver Lining. 
LOCATION:Sea salt beachside burger - 17851 Pacific Coast Highway, Huntington Beach, CA, 92649, US
END:VEVENT

END:VCALENDAR
