BEGIN:VCALENDAR
VERSION:2.0
BEGIN:VEVENT
CLASS:PUBLIC
CATEGORIES:MEETING
DTSTART;TZID=America/Los_Angeles:20230713T183000
DTEND;TZID=America/Los_Angeles:20230713T183000
SUMMARY:Silver Lining at Moreno Valley Civic Center Amphitheater 
DESCRIPTION:Age Limit: All Ages
LOCATION:Moreno Valley Civic Center Amphitheater  - 14075 Frederick St, Moreno Valley, CA, 92553, US
END:VEVENT

END:VCALENDAR
