BEGIN:VCALENDAR
VERSION:2.0
BEGIN:VEVENT
CLASS:PUBLIC
CATEGORIES:MEETING
DTSTART;TZID=America/Los_Angeles:20230218T180000
DTEND;TZID=America/Los_Angeles:20230218T180000
SUMMARY:Silver Lining at Rock & Roll Pizza - Harley Valley Bowl
DESCRIPTION:Age Limit: All Ages\n\nDetails: Battle of the Country Bands. \nThis is for the chance to open The Round Up Country Festival in April 
LOCATION:Rock & Roll Pizza - Harley Valley Bowl - 5255 Cochran St, Simi Valley, CA, 93063, US
END:VEVENT

END:VCALENDAR
