BEGIN:VCALENDAR
VERSION:2.0
BEGIN:VEVENT
CLASS:PUBLIC
CATEGORIES:MEETING
DTSTART;TZID=America/Los_Angeles:20230703T160000
DTEND;TZID=America/Los_Angeles:20230703T160000
SUMMARY:Silver Lining at La Mirada Regional Park
DESCRIPTION:Age Limit: All Ages\n\nDetails: Concert in the Park series
LOCATION:La Mirada Regional Park - 13701 Adela, La Mirada, CA, US
END:VEVENT

END:VCALENDAR
