BEGIN:VCALENDAR
VERSION:2.0
BEGIN:VEVENT
CLASS:PUBLIC
CATEGORIES:MEETING
DTSTART;TZID=America/Los_Angeles:20230430T130000
DTEND;TZID=America/Los_Angeles:20230430T130000
SUMMARY:Silver Lining at Sea salt beachside burger
DESCRIPTION:Age Limit: All Ages\n\nDetails: Join Silver Lining for Country Sunday at Sea Salt. 
LOCATION:Sea salt beachside burger - 17851 Pacific Coast Highway, Huntington Beach, CA, 92649, US
END:VEVENT

END:VCALENDAR
