BEGIN:VCALENDAR
VERSION:2.0
BEGIN:VEVENT
CLASS:PUBLIC
CATEGORIES:MEETING
DTSTART:20230205T150000Z
DTEND:20230205T150000Z
SUMMARY:Sillken at Port Moody Farmers Market
DESCRIPTION:Age Limit: All Ages
LOCATION:Port Moody Farmers Market - Port Moody Community Centre, Port Moody, BC, CA
END:VEVENT

END:VCALENDAR
