BEGIN:VCALENDAR
VERSION:2.0
BEGIN:VEVENT
CLASS:PUBLIC
CATEGORIES:MEETING
DTSTART;TZID=America/Chicago:20221230T190000
DTEND;TZID=America/Chicago:20221230T190000
SUMMARY:The Human Circuit at Sahara Lounge
DESCRIPTION:Price: $9-$12\nClick here to buy tickets: https://www.eventbrite.com/e/friday-night-joyride-tickets-484392349557\nAge Limit: 21+\n\nDetails: Hop in for a trip on this FRIDAY NIGHT JOYRIDE of skillful grooves, feelings, and drive! You&#39;ll enjoy this journey of live musical entertainment and will be feeling inspired for 2023!!!\n\nD﻿oors 7pm!!!\n\nLive Music until 1:00a and then dancin&#39; till last call!!!\n\nThis Joyride will have four destinations starting will Latin/Reggae/Cumbia, then heads into Reggae Rock, followed by Indie Pop-Rock, and wraps the night with some solid rock to get you pumped for the new year! Line Up Includes:\n\nO﻿nda Cosmica: https://www.facebook.com/ondacsomicaofficial\n\nA﻿quifer: https://aquiferbandmusic.com/\n\nT﻿he Human Circuit: https://youtu.be/E_j5_ESvQuQ\n\nElectric Hunter: https://youtu.be/rzoLCctaSwM
LOCATION:Sahara Lounge - 1413 Webberville Rd, Austin, TX, 78721, US
END:VEVENT

END:VCALENDAR
