BEGIN:VCALENDAR
VERSION:2.0
BEGIN:VEVENT
CLASS:PUBLIC
CATEGORIES:MEETING
DTSTART;TZID=America/Denver:20221203T180000
DTEND;TZID=America/Denver:20221203T180000
SUMMARY:The David Wheeler Show at Stella"s Cafe
DESCRIPTION:Price: $3\nAge Limit: All Ages\n\nDetails: Songwriter&#39;s Showcase
LOCATION:Stella"s Cafe - 148 Bridge Street, Las Vegas, NM, 87701, US
END:VEVENT

END:VCALENDAR
