BEGIN:VCALENDAR
VERSION:2.0
BEGIN:VEVENT
CLASS:PUBLIC
CATEGORIES:MEETING
DTSTART;TZID=Africa/Lagos:20221118T200000
DTEND;TZID=Africa/Lagos:20221118T200000
SUMMARY:Afrobeatzs at Wizkid FEST
DESCRIPTION:Price: $5\nAge Limit: All Ages\n\nDetails: Tickets purchases must be made before 21 of this month.
LOCATION:Wizkid FEST - Eko Convention Centre, Lagos, LAGOS, 100001, NG
END:VEVENT

END:VCALENDAR
