BEGIN:VCALENDAR
VERSION:2.0
BEGIN:VEVENT
CLASS:PUBLIC
CATEGORIES:MEETING
DTSTART;TZID=America/Los_Angeles:20221119T180000
DTEND;TZID=America/Los_Angeles:20221119T180000
SUMMARY:LeBono at Fire Rock Burgers & Brews
DESCRIPTION:Age Limit: All Ages
LOCATION:Fire Rock Burgers & Brews - 1040 Cherry Valley Boulevard, Calimesa, CA, 92320, US
END:VEVENT

END:VCALENDAR
