BEGIN:VCALENDAR
VERSION:2.0
BEGIN:VEVENT
CLASS:PUBLIC
CATEGORIES:MEETING
DTSTART;TZID=America/Chicago:20230506T150000
DTEND;TZID=America/Chicago:20230506T150000
SUMMARY:Soul Punch at Private Party Kentucky Derby
DESCRIPTION:Age Limit: All Ages\n\nDetails: Private Party for the Kentucky Derby 3-6PM
LOCATION:Private Party Kentucky Derby - 6588 Arbor Haven Dr, Ballwin, MO, 63021, US
END:VEVENT

END:VCALENDAR
