BEGIN:VCALENDAR
VERSION:2.0
BEGIN:VEVENT
CLASS:PUBLIC
CATEGORIES:MEETING
DTSTART;TZID=Europe/London:20230129T120000
DTEND;TZID=Europe/London:20230129T120000
SUMMARY:herds at Rock City
DESCRIPTION:Price: £10\nClick here to buy tickets: https://www.alttickets.com/beat-the-streets-tickets\nAge Limit: All Ages\n\nDetails: A multi venue festival of music, in aid of Framework homeless charity. featuring the cream of the Nottingham music scene.\nfor more line-up details go to this page :\nhttps://www.beatthestreetsuk.com/
LOCATION:Rock City - Nottingham, UK
END:VEVENT

END:VCALENDAR
