BEGIN:VCALENDAR
VERSION:2.0
BEGIN:VEVENT
CLASS:PUBLIC
CATEGORIES:MEETING
DTSTART;TZID=Europe/London:20231111T140000
DTEND;TZID=Europe/London:20231111T140000
SUMMARY:herds at Vauxhall Holiday Park
DESCRIPTION:Click here to buy tickets: https://hrhprog.com/product-category/hrh-prog-12/hrh-prog-12-tickets-and-extras/\nAge Limit: All Ages\n\nDetails: HRH Prog 12 festival
LOCATION:Vauxhall Holiday Park - Acle New Rd, Great Yarmouth, NR30 1TB, UK
END:VEVENT

END:VCALENDAR
