BEGIN:VCALENDAR
VERSION:2.0
BEGIN:VEVENT
CLASS:PUBLIC
CATEGORIES:MEETING
DTSTART;TZID=America/Los_Angeles:20221008T103000
DTEND;TZID=America/Los_Angeles:20221008T103000
SUMMARY:Silver Lining at Alhambra Autumn Festival  (Alhambra Park)
DESCRIPTION:Price: Free\nAge Limit: All Ages\n\nDetails: This is the City of Alhambra Autumn Festival. \n\nSilver Lining will be performing from 10:30-12:00.
LOCATION:Alhambra Autumn Festival  (Alhambra Park) - 500 N. Palm Ave, Alhambra, CA, 91801, US
END:VEVENT

END:VCALENDAR
